{"text_format":"1","workbook":"xlsx","n_sheets":3,"sheets":["Input","Sample sheet","Pooling sheet"],"not_rendered":{"charts":0,"images":0,"macros":1,"external_links":0,"defined_names":2,"comments":0,"pivot_tables":0},"unopened":[],"bounds":{"document_bytes":16777216,"sheet_cells":100000,"rows_first":2000,"rows_last":500,"rows_between":2000,"halvings":0,"cell_chars":16384,"cell_head_chars":4096},"cells_cut":0,"cells_raw":0,"read":"whole","date_system":"1900"}

{"sheet":"Input","index":0,"n_rows":98,"n_cols":5,"rows_kept":98,"cut":false,"hidden":false,"merged":[]}
[]
["well","sample name","adaptor ID","Ct 1","Ct 2"]
["A01"]
["A02"]
["A03"]
["A04"]
["A05"]
["A06"]
["A07"]
["A08"]
["A09"]
["A10"]
["A11"]
["A12"]
["B01"]
["B02"]
["B03"]
["B04"]
["B05"]
["B06"]
["B07"]
["B08"]
["B09"]
["B10"]
["B11"]
["B12"]
["C01"]
["C02"]
["C03"]
["C04"]
["C05"]
["C06"]
["C07"]
["C08"]
["C09"]
["C10"]
["C11"]
["C12"]
["D01"]
["D02"]
["D03"]
["D04"]
["D05"]
["D06"]
["D07"]
["D08"]
["D09"]
["D10"]
["D11"]
["D12"]
["E01"]
["E02"]
["E03"]
["E04"]
["E05"]
["E06"]
["E07"]
["E08"]
["E09"]
["E10"]
["E11"]
["E12"]
["F01"]
["F02"]
["F03"]
["F04"]
["F05"]
["F06"]
["F07"]
["F08"]
["F09"]
["F10"]
["F11"]
["F12"]
["G01"]
["G02"]
["G03"]
["G04"]
["G05"]
["G06"]
["G07"]
["G08"]
["G09"]
["G10"]
["G11"]
["G12"]
["H01"]
["H02"]
["H03"]
["H04"]
["H05"]
["H06"]
["H07"]
["H08"]
["H09"]
["H10"]
["H11"]
["H12"]

{"sheet":"Sample sheet","index":1,"n_rows":98,"n_cols":6,"rows_kept":98,"cut":false,"hidden":false,"merged":[]}
[]
["well","sample name","adaptor ID","Ct mean","pooling volume","target well"]
[null,null,null,null,null,"P01"]
[null,null,null,null,null,"P01"]
[null,null,null,null,null,"P01"]
[null,null,null,null,null,"P01"]
[null,null,null,null,null,"P01"]
[null,null,null,null,null,"P01"]
[null,null,null,null,null,"P02"]
[null,null,null,null,null,"P02"]
[null,null,null,null,null,"P02"]
[null,null,null,null,null,"P02"]
[null,null,null,null,null,"P02"]
[null,null,null,null,null,"P02"]
[null,null,null,null,null,"P03"]
[null,null,null,null,null,"P03"]
[null,null,null,null,null,"P03"]
[null,null,null,null,null,"P03"]
[null,null,null,null,null,"P03"]
[null,null,null,null,null,"P03"]
[null,null,null,null,null,"P04"]
[null,null,null,null,null,"P04"]
[null,null,null,null,null,"P04"]
[null,null,null,null,null,"P04"]
[null,null,null,null,null,"P04"]
[null,null,null,null,null,"P04"]
[null,null,null,null,null,"P05"]
[null,null,null,null,null,"P05"]
[null,null,null,null,null,"P05"]
[null,null,null,null,null,"P05"]
[null,null,null,null,null,"P05"]
[null,null,null,null,null,"P05"]
[null,null,null,null,null,"P06"]
[null,null,null,null,null,"P06"]
[null,null,null,null,null,"P06"]
[null,null,null,null,null,"P06"]
[null,null,null,null,null,"P06"]
[null,null,null,null,null,"P06"]
[null,null,null,null,null,"P07"]
[null,null,null,null,null,"P07"]
[null,null,null,null,null,"P07"]
[null,null,null,null,null,"P07"]
[null,null,null,null,null,"P07"]
[null,null,null,null,null,"P07"]
[null,null,null,null,null,"P08"]
[null,null,null,null,null,"P08"]
[null,null,null,null,null,"P08"]
[null,null,null,null,null,"P08"]
[null,null,null,null,null,"P08"]
[null,null,null,null,null,"P08"]
[null,null,null,null,null,"P09"]
[null,null,null,null,null,"P09"]
[null,null,null,null,null,"P09"]
[null,null,null,null,null,"P09"]
[null,null,null,null,null,"P09"]
[null,null,null,null,null,"P09"]
[null,null,null,null,null,"P10"]
[null,null,null,null,null,"P10"]
[null,null,null,null,null,"P10"]
[null,null,null,null,null,"P10"]
[null,null,null,null,null,"P10"]
[null,null,null,null,null,"P10"]
[null,null,null,null,null,"P11"]
[null,null,null,null,null,"P11"]
[null,null,null,null,null,"P11"]
[null,null,null,null,null,"P11"]
[null,null,null,null,null,"P11"]
[null,null,null,null,null,"P11"]
[null,null,null,null,null,"P12"]
[null,null,null,null,null,"P12"]
[null,null,null,null,null,"P12"]
[null,null,null,null,null,"P12"]
[null,null,null,null,null,"P12"]
[null,null,null,null,null,"P12"]
[null,null,null,null,null,"P13"]
[null,null,null,null,null,"P13"]
[null,null,null,null,null,"P13"]
[null,null,null,null,null,"P13"]
[null,null,null,null,null,"P13"]
[null,null,null,null,null,"P13"]
[null,null,null,null,null,"P14"]
[null,null,null,null,null,"P14"]
[null,null,null,null,null,"P14"]
[null,null,null,null,null,"P14"]
[null,null,null,null,null,"P14"]
[null,null,null,null,null,"P14"]
[null,null,null,null,null,"P15"]
[null,null,null,null,null,"P15"]
[null,null,null,null,null,"P15"]
[null,null,null,null,null,"P15"]
[null,null,null,null,null,"P15"]
[null,null,null,null,null,"P15"]
[null,null,null,null,null,"P16"]
[null,null,null,null,null,"P16"]
[null,null,null,null,null,"P16"]
[null,null,null,null,null,"P16"]
[null,null,null,null,null,"P16"]
[null,null,null,null,null,"P16"]

{"sheet":"Pooling sheet","index":2,"n_rows":34,"n_cols":8,"rows_kept":34,"cut":false,"hidden":false,"merged":[[1,1,1,6]]}
[]
["Target wells","Source plate wells",null,null,null,null,null,"Water to add"]
["P01",{"$f":"INDIRECT(\"'Sample sheet'!$A$3\")","v":0},{"$f":"INDIRECT(\"'Sample sheet'!$A$4\")","v":0},{"$f":"INDIRECT(\"'Sample sheet'!$A$5\")","v":0},{"$f":"INDIRECT(\"'Sample sheet'!$A$6\")","v":0},{"$f":"INDIRECT(\"'Sample sheet'!$A$7\")","v":0},{"$f":"INDIRECT(\"'Sample sheet'!$A$8\")","v":0}]
["Volumes",{"$f":"INDIRECT(\"'Sample sheet'!$E$3\")","v":0},{"$f":"INDIRECT(\"'Sample sheet'!$E$4\")","v":0},{"$f":"INDIRECT(\"'Sample sheet'!$E$5\")","v":0},{"$f":"INDIRECT(\"'Sample sheet'!$E$6\")","v":0},{"$f":"INDIRECT(\"'Sample sheet'!$E$7\")","v":0},{"$f":"INDIRECT(\"'Sample sheet'!$E$8\")","v":0},{"$f":"120-_xlfn.AGGREGATE(9,6,B4:G4)","v":120}]
["P02",{"$f":"INDIRECT(\"'Sample sheet'!$A$9\")","v":0},{"$f":"INDIRECT(\"'Sample sheet'!$A$10\")","v":0},{"$f":"INDIRECT(\"'Sample sheet'!$A$11\")","v":0},{"$f":"INDIRECT(\"'Sample sheet'!$A$12\")","v":0},{"$f":"INDIRECT(\"'Sample sheet'!$A$13\")","v":0},{"$f":"INDIRECT(\"'Sample sheet'!$A$14\")","v":0}]
["Volumes",{"$f":"INDIRECT(\"'Sample sheet'!$E$9\")","v":0},{"$f":"INDIRECT(\"'Sample sheet'!$E$10\")","v":0},{"$f":"INDIRECT(\"'Sample sheet'!$E$11\")","v":0},{"$f":"INDIRECT(\"'Sample sheet'!$E$12\")","v":0},{"$f":"INDIRECT(\"'Sample sheet'!$E$13\")","v":0},{"$f":"INDIRECT(\"'Sample sheet'!$E$14\")","v":0},{"$f":"120-_xlfn.AGGREGATE(9,6,B6:G6)","v":120}]
["P03",{"$f":"INDIRECT(\"'Sample sheet'!$A$15\")","v":0},{"$f":"INDIRECT(\"'Sample sheet'!$A$16\")","v":0},{"$f":"INDIRECT(\"'Sample sheet'!$A$17\")","v":0},{"$f":"INDIRECT(\"'Sample sheet'!$A$18\")","v":0},{"$f":"INDIRECT(\"'Sample sheet'!$A$19\")","v":0},{"$f":"INDIRECT(\"'Sample sheet'!$A$20\")","v":0}]
["Volumes",{"$f":"INDIRECT(\"'Sample sheet'!$E$15\")","v":0},{"$f":"INDIRECT(\"'Sample sheet'!$E$16\")","v":0},{"$f":"INDIRECT(\"'Sample sheet'!$E$17\")","v":0},{"$f":"INDIRECT(\"'Sample sheet'!$E$18\")","v":0},{"$f":"INDIRECT(\"'Sample sheet'!$E$19\")","v":0},{"$f":"INDIRECT(\"'Sample sheet'!$E$20\")","v":0},120]
["P04",{"$f":"INDIRECT(\"'Sample sheet'!$A$21\")","v":0},{"$f":"INDIRECT(\"'Sample sheet'!$A$22\")","v":0},{"$f":"INDIRECT(\"'Sample sheet'!$A$23\")","v":0},{"$f":"INDIRECT(\"'Sample sheet'!$A$24\")","v":0},{"$f":"INDIRECT(\"'Sample sheet'!$A$25\")","v":0},{"$f":"INDIRECT(\"'Sample sheet'!$A$26\")","v":0}]
["Volumes",{"$f":"INDIRECT(\"'Sample sheet'!$E$21\")","v":0},{"$f":"INDIRECT(\"'Sample sheet'!$E$22\")","v":0},{"$f":"INDIRECT(\"'Sample sheet'!$E$23\")","v":0},{"$f":"INDIRECT(\"'Sample sheet'!$E$24\")","v":0},{"$f":"INDIRECT(\"'Sample sheet'!$E$25\")","v":0},{"$f":"INDIRECT(\"'Sample sheet'!$E$26\")","v":0},120]
["P05",{"$f":"INDIRECT(\"'Sample sheet'!$A$27\")","v":0},{"$f":"INDIRECT(\"'Sample sheet'!$A$28\")","v":0},{"$f":"INDIRECT(\"'Sample sheet'!$A$29\")","v":0},{"$f":"INDIRECT(\"'Sample sheet'!$A$30\")","v":0},{"$f":"INDIRECT(\"'Sample sheet'!$A$31\")","v":0},{"$f":"INDIRECT(\"'Sample sheet'!$A$32\")","v":0}]
["Volumes",{"$f":"INDIRECT(\"'Sample sheet'!$E$27\")","v":0},{"$f":"INDIRECT(\"'Sample sheet'!$E$28\")","v":0},{"$f":"INDIRECT(\"'Sample sheet'!$E$29\")","v":0},{"$f":"INDIRECT(\"'Sample sheet'!$E$30\")","v":0},{"$f":"INDIRECT(\"'Sample sheet'!$E$31\")","v":0},{"$f":"INDIRECT(\"'Sample sheet'!$E$32\")","v":0},120]
["P06",{"$f":"INDIRECT(\"'Sample sheet'!$A$33\")","v":0},{"$f":"INDIRECT(\"'Sample sheet'!$A$34\")","v":0},{"$f":"INDIRECT(\"'Sample sheet'!$A$35\")","v":0},{"$f":"INDIRECT(\"'Sample sheet'!$A$36\")","v":0},{"$f":"INDIRECT(\"'Sample sheet'!$A$37\")","v":0},{"$f":"INDIRECT(\"'Sample sheet'!$A$38\")","v":0}]
["Volumes",{"$f":"INDIRECT(\"'Sample sheet'!$E$33\")","v":0},{"$f":"INDIRECT(\"'Sample sheet'!$E$34\")","v":0},{"$f":"INDIRECT(\"'Sample sheet'!$E$35\")","v":0},{"$f":"INDIRECT(\"'Sample sheet'!$E$36\")","v":0},{"$f":"INDIRECT(\"'Sample sheet'!$E$37\")","v":0},{"$f":"INDIRECT(\"'Sample sheet'!$E$38\")","v":0},120]
["P07",{"$f":"INDIRECT(\"'Sample sheet'!$A$39\")","v":0},{"$f":"INDIRECT(\"'Sample sheet'!$A$40\")","v":0},{"$f":"INDIRECT(\"'Sample sheet'!$A$41\")","v":0},{"$f":"INDIRECT(\"'Sample sheet'!$A$42\")","v":0},{"$f":"INDIRECT(\"'Sample sheet'!$A$43\")","v":0},{"$f":"INDIRECT(\"'Sample sheet'!$A$44\")","v":0}]
["Volumes",{"$f":"INDIRECT(\"'Sample sheet'!$E$39\")","v":0},{"$f":"INDIRECT(\"'Sample sheet'!$E$40\")","v":0},{"$f":"INDIRECT(\"'Sample sheet'!$E$41\")","v":0},{"$f":"INDIRECT(\"'Sample sheet'!$E$42\")","v":0},{"$f":"INDIRECT(\"'Sample sheet'!$E$43\")","v":0},{"$f":"INDIRECT(\"'Sample sheet'!$E$44\")","v":0},120]
["P08",{"$f":"INDIRECT(\"'Sample sheet'!$A$45\")","v":0},{"$f":"INDIRECT(\"'Sample sheet'!$A$46\")","v":0},{"$f":"INDIRECT(\"'Sample sheet'!$A$47\")","v":0},{"$f":"INDIRECT(\"'Sample sheet'!$A$48\")","v":0},{"$f":"INDIRECT(\"'Sample sheet'!$A$49\")","v":0},{"$f":"INDIRECT(\"'Sample sheet'!$A$50\")","v":0}]
["Volumes",{"$f":"INDIRECT(\"'Sample sheet'!$E$45\")","v":0},{"$f":"INDIRECT(\"'Sample sheet'!$E$46\")","v":0},{"$f":"INDIRECT(\"'Sample sheet'!$E$47\")","v":0},{"$f":"INDIRECT(\"'Sample sheet'!$E$48\")","v":0},{"$f":"INDIRECT(\"'Sample sheet'!$E$49\")","v":0},{"$f":"INDIRECT(\"'Sample sheet'!$E$50\")","v":0},120]
["P09",{"$f":"INDIRECT(\"'Sample sheet'!$A$51\")","v":0},{"$f":"INDIRECT(\"'Sample sheet'!$A$52\")","v":0},{"$f":"INDIRECT(\"'Sample sheet'!$A$53\")","v":0},{"$f":"INDIRECT(\"'Sample sheet'!$A$54\")","v":0},{"$f":"INDIRECT(\"'Sample sheet'!$A$55\")","v":0},{"$f":"INDIRECT(\"'Sample sheet'!$A$56\")","v":0}]
["Volumes",{"$f":"INDIRECT(\"'Sample sheet'!$E$51\")","v":0},{"$f":"INDIRECT(\"'Sample sheet'!$E$52\")","v":0},{"$f":"INDIRECT(\"'Sample sheet'!$E$53\")","v":0},{"$f":"INDIRECT(\"'Sample sheet'!$E$54\")","v":0},{"$f":"INDIRECT(\"'Sample sheet'!$E$55\")","v":0},{"$f":"INDIRECT(\"'Sample sheet'!$E$56\")","v":0},120]
["P10",{"$f":"INDIRECT(\"'Sample sheet'!$A$57\")","v":0},{"$f":"INDIRECT(\"'Sample sheet'!$A$58\")","v":0},{"$f":"INDIRECT(\"'Sample sheet'!$A$59\")","v":0},{"$f":"INDIRECT(\"'Sample sheet'!$A$60\")","v":0},{"$f":"INDIRECT(\"'Sample sheet'!$A$61\")","v":0},{"$f":"INDIRECT(\"'Sample sheet'!$A$62\")","v":0}]
["Volumes",{"$f":"INDIRECT(\"'Sample sheet'!$E$57\")","v":0},{"$f":"INDIRECT(\"'Sample sheet'!$E$58\")","v":0},{"$f":"INDIRECT(\"'Sample sheet'!$E$59\")","v":0},{"$f":"INDIRECT(\"'Sample sheet'!$E$60\")","v":0},{"$f":"INDIRECT(\"'Sample sheet'!$E$61\")","v":0},{"$f":"INDIRECT(\"'Sample sheet'!$E$62\")","v":0},120]
["P11",{"$f":"INDIRECT(\"'Sample sheet'!$A$63\")","v":0},{"$f":"INDIRECT(\"'Sample sheet'!$A$64\")","v":0},{"$f":"INDIRECT(\"'Sample sheet'!$A$65\")","v":0},{"$f":"INDIRECT(\"'Sample sheet'!$A$66\")","v":0},{"$f":"INDIRECT(\"'Sample sheet'!$A$67\")","v":0},{"$f":"INDIRECT(\"'Sample sheet'!$A$68\")","v":0}]
["Volumes",{"$f":"INDIRECT(\"'Sample sheet'!$E$63\")","v":0},{"$f":"INDIRECT(\"'Sample sheet'!$E$64\")","v":0},{"$f":"INDIRECT(\"'Sample sheet'!$E$65\")","v":0},{"$f":"INDIRECT(\"'Sample sheet'!$E$66\")","v":0},{"$f":"INDIRECT(\"'Sample sheet'!$E$67\")","v":0},{"$f":"INDIRECT(\"'Sample sheet'!$E$68\")","v":0},120]
["P12",{"$f":"INDIRECT(\"'Sample sheet'!$A$69\")","v":0},{"$f":"INDIRECT(\"'Sample sheet'!$A$70\")","v":0},{"$f":"INDIRECT(\"'Sample sheet'!$A$71\")","v":0},{"$f":"INDIRECT(\"'Sample sheet'!$A$72\")","v":0},{"$f":"INDIRECT(\"'Sample sheet'!$A$73\")","v":0},{"$f":"INDIRECT(\"'Sample sheet'!$A$74\")","v":0}]
["Volumes",{"$f":"INDIRECT(\"'Sample sheet'!$E$69\")","v":0},{"$f":"INDIRECT(\"'Sample sheet'!$E$70\")","v":0},{"$f":"INDIRECT(\"'Sample sheet'!$E$71\")","v":0},{"$f":"INDIRECT(\"'Sample sheet'!$E$72\")","v":0},{"$f":"INDIRECT(\"'Sample sheet'!$E$73\")","v":0},{"$f":"INDIRECT(\"'Sample sheet'!$E$74\")","v":0},120]
["P13",{"$f":"INDIRECT(\"'Sample sheet'!$A$75\")","v":0},{"$f":"INDIRECT(\"'Sample sheet'!$A$76\")","v":0},{"$f":"INDIRECT(\"'Sample sheet'!$A$77\")","v":0},{"$f":"INDIRECT(\"'Sample sheet'!$A$78\")","v":0},{"$f":"INDIRECT(\"'Sample sheet'!$A$79\")","v":0},{"$f":"INDIRECT(\"'Sample sheet'!$A$80\")","v":0}]
["Volumes",{"$f":"INDIRECT(\"'Sample sheet'!$E$75\")","v":0},{"$f":"INDIRECT(\"'Sample sheet'!$E$76\")","v":0},{"$f":"INDIRECT(\"'Sample sheet'!$E$77\")","v":0},{"$f":"INDIRECT(\"'Sample sheet'!$E$78\")","v":0},{"$f":"INDIRECT(\"'Sample sheet'!$E$79\")","v":0},{"$f":"INDIRECT(\"'Sample sheet'!$E$80\")","v":0},120]
["P14",{"$f":"INDIRECT(\"'Sample sheet'!$A$81\")","v":0},{"$f":"INDIRECT(\"'Sample sheet'!$A$82\")","v":0},{"$f":"INDIRECT(\"'Sample sheet'!$A$83\")","v":0},{"$f":"INDIRECT(\"'Sample sheet'!$A$84\")","v":0},{"$f":"INDIRECT(\"'Sample sheet'!$A$85\")","v":0},{"$f":"INDIRECT(\"'Sample sheet'!$A$86\")","v":0}]
["Volumes",{"$f":"INDIRECT(\"'Sample sheet'!$E$81\")","v":0},{"$f":"INDIRECT(\"'Sample sheet'!$E$82\")","v":0},{"$f":"INDIRECT(\"'Sample sheet'!$E$83\")","v":0},{"$f":"INDIRECT(\"'Sample sheet'!$E$84\")","v":0},{"$f":"INDIRECT(\"'Sample sheet'!$E$85\")","v":0},{"$f":"INDIRECT(\"'Sample sheet'!$E$86\")","v":0},120]
["P15",{"$f":"INDIRECT(\"'Sample sheet'!$A$87\")","v":0},{"$f":"INDIRECT(\"'Sample sheet'!$A$88\")","v":0},{"$f":"INDIRECT(\"'Sample sheet'!$A$89\")","v":0},{"$f":"INDIRECT(\"'Sample sheet'!$A$90\")","v":0},{"$f":"INDIRECT(\"'Sample sheet'!$A$91\")","v":0},{"$f":"INDIRECT(\"'Sample sheet'!$A$92\")","v":0}]
["Volumes",{"$f":"INDIRECT(\"'Sample sheet'!$E$87\")","v":0},{"$f":"INDIRECT(\"'Sample sheet'!$E$88\")","v":0},{"$f":"INDIRECT(\"'Sample sheet'!$E$89\")","v":0},{"$f":"INDIRECT(\"'Sample sheet'!$E$90\")","v":0},{"$f":"INDIRECT(\"'Sample sheet'!$E$91\")","v":0},{"$f":"INDIRECT(\"'Sample sheet'!$E$92\")","v":0},120]
["P16",{"$f":"INDIRECT(\"'Sample sheet'!$A$93\")","v":0},{"$f":"INDIRECT(\"'Sample sheet'!$A$94\")","v":0},{"$f":"INDIRECT(\"'Sample sheet'!$A$95\")","v":0},{"$f":"INDIRECT(\"'Sample sheet'!$A$96\")","v":0},{"$f":"INDIRECT(\"'Sample sheet'!$A$97\")","v":0},{"$f":"INDIRECT(\"'Sample sheet'!$A$98\")","v":0}]
["Volumes",{"$f":"INDIRECT(\"'Sample sheet'!$E$93\")","v":0},{"$f":"INDIRECT(\"'Sample sheet'!$E$94\")","v":0},{"$f":"INDIRECT(\"'Sample sheet'!$E$95\")","v":0},{"$f":"INDIRECT(\"'Sample sheet'!$E$96\")","v":0},{"$f":"INDIRECT(\"'Sample sheet'!$E$97\")","v":0},{"$f":"INDIRECT(\"'Sample sheet'!$E$98\")","v":0},120]